BEGIN:VCALENDAR
VERSION:2.0
PRODID:-//David Townsend Automotive Fine Art - ECPv6.15.20//NONSGML v1.0//EN
CALSCALE:GREGORIAN
METHOD:PUBLISH
X-ORIGINAL-URL:https://dctownsend.com
X-WR-CALDESC:Events for David Townsend Automotive Fine Art
REFRESH-INTERVAL;VALUE=DURATION:PT1H
X-Robots-Tag:noindex
X-PUBLISHED-TTL:PT1H
BEGIN:VTIMEZONE
TZID:America/Halifax
BEGIN:DAYLIGHT
TZOFFSETFROM:-0400
TZOFFSETTO:-0300
TZNAME:ADT
DTSTART:20250309T060000
END:DAYLIGHT
BEGIN:STANDARD
TZOFFSETFROM:-0300
TZOFFSETTO:-0400
TZNAME:AST
DTSTART:20251102T050000
END:STANDARD
BEGIN:DAYLIGHT
TZOFFSETFROM:-0400
TZOFFSETTO:-0300
TZNAME:ADT
DTSTART:20260308T060000
END:DAYLIGHT
BEGIN:STANDARD
TZOFFSETFROM:-0300
TZOFFSETTO:-0400
TZNAME:AST
DTSTART:20261101T050000
END:STANDARD
BEGIN:DAYLIGHT
TZOFFSETFROM:-0400
TZOFFSETTO:-0300
TZNAME:ADT
DTSTART:20270314T060000
END:DAYLIGHT
BEGIN:STANDARD
TZOFFSETFROM:-0300
TZOFFSETTO:-0400
TZNAME:AST
DTSTART:20271107T050000
END:STANDARD
END:VTIMEZONE
BEGIN:VEVENT
DTSTART;VALUE=DATE:20260120
DTEND;VALUE=DATE:20260126
DTSTAMP:20260423T062639
CREATED:20251229T142409Z
LAST-MODIFIED:20251229T142659Z
UID:196227-1768867200-1769385599@dctownsend.com
SUMMARY:Art House Collective
DESCRIPTION:Featuring the works of illustrator Dwight Knowlton\, artist David Townsend\, painter Lyn Hiner\, and photographer Bill Pack this six-day showcase celebrates the diversity of automotive art\, from expressive fine art and illustration to bold color studies and dramatic photography. Each artist brings a distinct visual language to the subject of speed\, form\, and design. \n 
URL:https://dctownsend.com/event/art-house-collective/
LOCATION:The Warehouse\, 254 W. Broadway RD\, Mesa\, AZ\, 85210\, United States
ATTACH;FMTTYPE=image/png:https://dctownsend.com/wp-content/uploads/2025/12/Updated-Tetrad-enews.png
ORGANIZER;CN="The Art House Collective":MAILTO:info@arthousecollective.org
END:VEVENT
END:VCALENDAR